BEGIN:VCALENDAR
VERSION:2.0
PRODID:-//wp-events-plugin.com//7.2.3.1//EN
TZID:Europe/Berlin
X-WR-TIMEZONE:Europe/Berlin
BEGIN:VEVENT
UID:13@st-michaelshaus-minden.de
DTSTART;TZID=Europe/Berlin;VALUE=DATE:20231206
DTEND;TZID=Europe/Berlin;VALUE=DATE:20231207
DTSTAMP:20230412T161055Z
URL:https://www.st-michaelshaus-minden.de/events/der-nikolaus-kommt/
SUMMARY:Der Nikolaus kommt
DESCRIPTION:
LOCATION:auf den Wohnbereichen\, Domstraße 1\, Minden\, 32423\, Deutschlan
 d
X-APPLE-STRUCTURED-LOCATION;VALUE=URI;X-ADDRESS=Domstraße 1\, Minden\, 324
 23\, Deutschland;X-APPLE-RADIUS=100;X-TITLE=auf den Wohnbereichen:geo:0,0
END:VEVENT
BEGIN:VTIMEZONE
TZID:Europe/Berlin
X-LIC-LOCATION:Europe/Berlin
BEGIN:STANDARD
DTSTART:20231029T020000
TZOFFSETFROM:+0200
TZOFFSETTO:+0100
TZNAME:CET
END:STANDARD
END:VTIMEZONE
END:VCALENDAR